BEGIN:VCALENDAR
VERSION:2.0
PRODID:-//OneArtyMinute//Calendar Export//FR
CALSCALE:GREGORIAN
METHOD:PUBLISH
BEGIN:VEVENT
UID:exposition-14997@oneartyminute.com
DTSTAMP:20260420T025915Z
DTSTART;VALUE=DATE:20251129
DTEND;VALUE=DATE:20260504
SUMMARY:Narcisse Tordoir | Fake Barok
LOCATION:S.M.A.K.\\, jan hoetplein 1\\, 9000 GENT\\, BE
DESCRIPTION:L’œuvre monumentale 'Fake Barok' illustre l’approche innovante de la peint
 ure développée par l’artiste belge Narcisse Tordoir. L’installation\\, co
 nçue comme un triptyque de collages photo s’étirant en longueur\\, est pr
 ésentée à S.M.A.K. dans une nouvelle disposition.Le titre de l’œuvre fait
  référence au baroque\\, un courant artistique du xviie siècle qui retien
 t toute l’attention de Narcisse Tordoir depuis un moment déjà. L’artiste 
 voit le baroque comme une période...
URL:https://oneartyminute.com/expositions/narcisse-tordoir-fake-barok
STATUS:CONFIRMED
BEGIN:VALARM
TRIGGER:-P1D
DESCRIPTION:L'exposition se termine demain !
ACTION:DISPLAY
END:VALARM
END:VEVENT
END:VCALENDAR
