BEGIN:VCALENDAR
VERSION:2.0
PRODID:-//OneArtyMinute//Calendar Export//FR
CALSCALE:GREGORIAN
METHOD:PUBLISH
BEGIN:VEVENT
UID:exposition-14998@oneartyminute.com
DTSTAMP:20260420T030034Z
DTSTART;VALUE=DATE:20251129
DTEND;VALUE=DATE:20260504
SUMMARY:Aziz Hazara | Bow Echo
LOCATION:S.M.A.K.\\, jan hoetplein 1\\, 9000 GENT\\, BE
DESCRIPTION:'Bow Echo' est une installation vidéo captivante de l’artiste interdiscipl
 inaire Aziz Hazara. Après sa donation à S.M.A.K. en 2022\\, l’œuvre est e
 xposée pour la première fois au musée.L’installation Bow Echo (2019) est 
 composée de cinq écrans géants sur lesquels on voit cinq jeunes garçons q
 ui affrontent un vent violent pour escalader un gros rocher. Une fois arr
 ivés au sommet\\, ils jouent presque solennellement du kazoo\\, un petit 
 instrument à vent folklorique très simple qu...
URL:https://oneartyminute.com/expositions/aziz-hazara-bow-echo
STATUS:CONFIRMED
BEGIN:VALARM
TRIGGER:-P1D
DESCRIPTION:L'exposition se termine demain !
ACTION:DISPLAY
END:VALARM
END:VEVENT
END:VCALENDAR
