BEGIN:VCALENDAR
VERSION:2.0
PRODID:-//OneArtyMinute//Calendar Export//FR
CALSCALE:GREGORIAN
METHOD:PUBLISH
BEGIN:VEVENT
UID:exposition-15224@oneartyminute.com
DTSTAMP:20260420T025855Z
DTSTART;VALUE=DATE:20251129
DTEND;VALUE=DATE:20260504
SUMMARY:10 ans de S.M.A.K. Bouge
LOCATION:S.M.A.K.\\, jan hoetplein 1\\, 9000 GENT\\, BE
DESCRIPTION:S.M.A.K. Bouge est la plateforme participative du musée. Depuis dix ans\\,
  nous rapprochons les personnes et l’art à travers des projets basés sur 
 le faire ensemble\\, le penser ensemble et le vivre ensemble. À partir de
  l’automne 2025\\, nous célébrerons cet anniversaire avec une exposition 
 spéciale au musée.&nbsp\\;Cette exposition met la rencontre et la collabo
 ration au centre. Dans deux salles\\, nous donnons tour à tour la parole 
 à des partenaires de longue date et à de nouveaux par...
URL:https://oneartyminute.com/expositions/10-ans-de-smak-bouge
STATUS:CONFIRMED
BEGIN:VALARM
TRIGGER:-P1D
DESCRIPTION:L'exposition se termine demain !
ACTION:DISPLAY
END:VALARM
END:VEVENT
END:VCALENDAR
