BEGIN:VCALENDAR
VERSION:2.0
PRODID:-//OneArtyMinute//Calendar Export//FR
CALSCALE:GREGORIAN
METHOD:PUBLISH
BEGIN:VEVENT
UID:exposition-15302@oneartyminute.com
DTSTAMP:20260420T042605Z
DTSTART;VALUE=DATE:20251214
DTEND;VALUE=DATE:20260511
SUMMARY:Cristina Garrido. The White Cube is Never Empty
LOCATION:MACS\\, Rue Sainte-Louise 82\\, 7301 Hornu\\, BE
DESCRIPTION:EUROPALIA ESPAÑAThe White Cube is Never Empty est la première exposition m
 onographique de l’artiste espagnole Cristina Garrido dans un musée en Bel
 gique. Regroupant une sélection d’œuvres réalisées au cours de la dernièr
 e décennie\\, elle&nbsp\\;présente également une nouvelle installation in
  situ qui répond à l’architecture spécifique du Musée et à l’historique d
 e ses expositions.&nbsp\\;L’œuvre pluridisciplinaire de Cristina Garrido 
 étudie la manière dont l’art est ...
URL:https://oneartyminute.com/expositions/cristina-garrido-white-cube-never-empty
STATUS:CONFIRMED
BEGIN:VALARM
TRIGGER:-P1D
DESCRIPTION:L'exposition se termine demain !
ACTION:DISPLAY
END:VALARM
END:VEVENT
END:VCALENDAR
