BEGIN:VCALENDAR
VERSION:2.0
PRODID:-//OneArtyMinute//Calendar Export//FR
CALSCALE:GREGORIAN
METHOD:PUBLISH
BEGIN:VEVENT
UID:exposition-15303@oneartyminute.com
DTSTAMP:20260420T041814Z
DTSTART;VALUE=DATE:20251214
DTEND;VALUE=DATE:20260511
SUMMARY:Honoré δ’O. Quarantaine−Quarantine
LOCATION:MACS\\, Rue Sainte-Louise 82\\, 7301 Hornu\\, BE
DESCRIPTION:40 jours dans le désertConçue par Honoré δ’O pour la grande salle carrée d
 u MACS\\, l’exposition Quarantaine−Quarantine consiste en une vaste insta
 llation dans laquelle l’artiste belge évoque la « retraite dans le désert
  » qu’il effectua durant 40 jours dans le cadre de sa résidence à Marfa (
 Texas) en 2024. Comme le suggère son titre à travers le double sens du mo
 t « quarantaine »\\, le projet combine l’expérience d’une introspection s
 pirituelle et celle d’...
URL:https://oneartyminute.com/expositions/honore-do-quarantaine-quarantine
STATUS:CONFIRMED
BEGIN:VALARM
TRIGGER:-P1D
DESCRIPTION:L'exposition se termine demain !
ACTION:DISPLAY
END:VALARM
END:VEVENT
END:VCALENDAR
