BEGIN:VCALENDAR
VERSION:2.0
PRODID:-//OneArtyMinute//Calendar Export//FR
CALSCALE:GREGORIAN
METHOD:PUBLISH
BEGIN:VEVENT
UID:exposition-15325@oneartyminute.com
DTSTAMP:20260420T025916Z
DTSTART;VALUE=DATE:20260507
DTEND;VALUE=DATE:20260511
SUMMARY:ARTdeSUISSE Zurich\\, édition de printemps 2026 à la Kronen Galerie
LOCATION:Cosmopolitan Art GmbH\\, Kronen Galerie\\, Froschaugasse 3\\, 8001 Zürich\
 \, CH
DESCRIPTION:Dans la Kronen Galerie\\, dans la vieille ville de Zurich\\, 14 artistes p
 résentent une exposition à plusieurs voix.Pendant quatre jours\\, l'art p
 rend les commandes de la Kronen Galerie de la vieille ville de Zurich.Qua
 torze artistes* sélectionnés présenteront des travaux aussi variés que su
 rprenants sur le plan stylistique\\, thématique et matériel - de la toile
  à l'objectif. Le coup d'envoi sera donné lors du vernissage le jeudi 07 
 mai 2026\\, à partir de 17 heures. Une soirée pour des r...
URL:https://oneartyminute.com/expositions/artdesuisse-zurich-edition-de-printemps-2026-la-kronen-galerie
STATUS:CONFIRMED
BEGIN:VALARM
TRIGGER:-P1D
DESCRIPTION:L'exposition se termine demain !
ACTION:DISPLAY
END:VALARM
END:VEVENT
END:VCALENDAR
