BEGIN:VCALENDAR
VERSION:2.0
PRODID:-//OneArtyMinute//Calendar Export//FR
CALSCALE:GREGORIAN
METHOD:PUBLISH
BEGIN:VEVENT
UID:exposition-15471@oneartyminute.com
DTSTAMP:20260422T211626Z
DTSTART;VALUE=DATE:20260207
DTEND;VALUE=DATE:20260601
SUMMARY:Exposition Philippe Mohlitz
LOCATION:Musée Raymond Lafage\\, 9\\, Place Paul Saissac\\, 81310 Lisle-sur-Tarn\\,
  FR
DESCRIPTION:En partenariat avec museemohlitz.com\\, le Musée Raymond Lafage est heureu
 x d'accueillir la première exposition en milieu muséal depuis le décès de
  l'artiste en 2019. Cette rétrospective sera l'occasion d'admirer une sél
 ection unique de gravures et de plaques gravées de la main de Philippe Mo
 hlitz.&nbsp\\;Philippe Mohlitz est un artiste qui a su se démarquer par s
 on talent et sa maîtrise technique exceptionnelle. Également dessinateur 
 et sculpteur\\, il est surtout un buriniste remarqué...
URL:https://oneartyminute.com/expositions/exposition-philippe-mohlitz
STATUS:CONFIRMED
BEGIN:VALARM
TRIGGER:-P1D
DESCRIPTION:L'exposition se termine demain !
ACTION:DISPLAY
END:VALARM
END:VEVENT
END:VCALENDAR
