BEGIN:VCALENDAR
VERSION:2.0
PRODID:-//OneArtyMinute//Calendar Export//FR
CALSCALE:GREGORIAN
METHOD:PUBLISH
BEGIN:VEVENT
UID:exposition-15480@oneartyminute.com
DTSTAMP:20260420T025856Z
DTSTART;VALUE=DATE:20260303
DTEND;VALUE=DATE:20260503
SUMMARY:Mémoires Fugitives
LOCATION:46 St Paul Gallery\\, 46 rue Grande\\, 06570 Saint-Paul de Vence\\, FR
DESCRIPTION:L’exposition de Dany Albiach\\, diplômé de la Villa Arson en 2024\\, prése
 nte un ensemble de pièces mêlant dessin au stylo bic et sérigraphie sur b
 ois. Cette dernière est abordée comme un médium pictural à part entière\\
 , jouant sur les épaisseurs\\, les altérations et les effets de brillance
 . Les images utilisées proviennent aussi bien d’archives familiales ancie
 nnes que de photographies issues de ses pérégrinations actuelles. Il en r
 ésulte des compositions silencieuses\\, où les...
URL:https://oneartyminute.com/expositions/memoires-fugitives
STATUS:CONFIRMED
BEGIN:VALARM
TRIGGER:-P1D
DESCRIPTION:L'exposition se termine demain !
ACTION:DISPLAY
END:VALARM
END:VEVENT
END:VCALENDAR
