BEGIN:VCALENDAR
VERSION:2.0
PRODID:-//OneArtyMinute//Calendar Export//FR
CALSCALE:GREGORIAN
METHOD:PUBLISH
BEGIN:VEVENT
UID:exposition-15487@oneartyminute.com
DTSTAMP:20260420T030028Z
DTSTART;VALUE=DATE:20260211
DTEND;VALUE=DATE:20260426
SUMMARY:Demain\\, demain
LOCATION:La Station\\, 89 Route de Turin\\, 06300 Nice\\, FR
DESCRIPTION:Avec les artistes : Loïc Alsina\\, Arnus\\, Sarah Barthe\\, Sinem Bostanci
 \\, Marie-Pierre Brunel\\, Lucas Compagnoni\\, Yannick Cosso\\, Nicolas G
 aillardon\\, Marine Gambardella\\, Robin Genoux\\, Jérémy Griffaud\\, Jul
 ien Griffaud\\, Chloé Héreau\\, Ugo Lange\\, Lego My Ego\\, Alexandre Lou
 venaz\\, Guangli Liu\\, Loïc Le Pivert\\, Céline Marin\\, Gérald Panighi\
 \, François Paris\\, Maxime Parodi\\, JP Racca Vammerisse\\, Mathilde Rey
 naud\\, Jimmy Richer\\, Julien Sampson\\, Quentin Spohn\\, Valentine Tras
 sy\\, Florent Testa et Claude Va...
URL:https://oneartyminute.com/expositions/demain-demain
STATUS:CONFIRMED
BEGIN:VALARM
TRIGGER:-P1D
DESCRIPTION:L'exposition se termine demain !
ACTION:DISPLAY
END:VALARM
END:VEVENT
END:VCALENDAR
