BEGIN:VCALENDAR
VERSION:2.0
PRODID:-//OneArtyMinute//Calendar Export//FR
CALSCALE:GREGORIAN
METHOD:PUBLISH
BEGIN:VEVENT
UID:exposition-15488@oneartyminute.com
DTSTAMP:20260420T030029Z
DTSTART;VALUE=DATE:20260211
DTEND;VALUE=DATE:20260426
SUMMARY:Au travers de la serrure
LOCATION:La Station\\, 89 Route de Turin\\, 06300 Nice\\, FR
DESCRIPTION:Avec les artistes : Evan Barbedette\\, Jules Boillot\\, Heloïse Farago\\, 
 &nbsp\\;Alix Leboucher\\, Paul Lemaître et Lila Vignot&nbsp\\;“Caché·e de
 rrière un arbre\\, à l’abri d’un buisson\\, pris·e à l’étroit dans l’alcô
 ve d’un bâtiment lugubre ou de votre propre silhouette\\, à cavaler en re
 cherche de votre but\\, attention à ne pas mettre les coudes sur la table
 . Soyez les bienvenu·es dans cette escapade où l’irréel de six dessinateu
 r·ices vous emportera dans leurs songes\\, leurs ...
URL:https://oneartyminute.com/expositions/au-travers-de-la-serrure
STATUS:CONFIRMED
BEGIN:VALARM
TRIGGER:-P1D
DESCRIPTION:L'exposition se termine demain !
ACTION:DISPLAY
END:VALARM
END:VEVENT
END:VCALENDAR
