BEGIN:VCALENDAR
VERSION:2.0
PRODID:-//OneArtyMinute//Calendar Export//FR
CALSCALE:GREGORIAN
METHOD:PUBLISH
BEGIN:VEVENT
UID:exposition-15490@oneartyminute.com
DTSTAMP:20260420T030035Z
DTSTART;VALUE=DATE:20260214
DTEND;VALUE=DATE:20260511
SUMMARY:Le voyage dans la Lune
LOCATION:La Criée centre d'art contemporain\\, Place Honoré Commeurec\\, Ille-et-Vi
 laine Bretagne\\, 35000 Rennes\\, FR
DESCRIPTION:La Criée présente du 14 février au 10 mai 2026 une exposition de Marcel Dz
 ama\\, artiste canadien basé à New York\\, internationalement reconnu\\, 
 mais rarement exposé en France. Intitulée « Le voyage dans la Lune »\\, e
 n clin d'œil au magicien des débuts du cinéma Georges Méliès\\, elle prés
 ente pour la première fois en Europe une large sélection des films de l'a
 rtiste\\, auxquels font écho un ensemble de storyboards\\, dessins\\, maq
 uettes et costumes.&nbsp\\;Formé aux beaux-arts de Winnip...
URL:https://oneartyminute.com/expositions/le-voyage-dans-la-lune
STATUS:CONFIRMED
BEGIN:VALARM
TRIGGER:-P1D
DESCRIPTION:L'exposition se termine demain !
ACTION:DISPLAY
END:VALARM
END:VEVENT
END:VCALENDAR
