BEGIN:VCALENDAR
VERSION:2.0
PRODID:-//OneArtyMinute//Calendar Export//FR
CALSCALE:GREGORIAN
METHOD:PUBLISH
BEGIN:VEVENT
UID:exposition-15546@oneartyminute.com
DTSTAMP:20260420T025916Z
DTSTART;VALUE=DATE:20260422
DTEND;VALUE=DATE:20260426
SUMMARY:Sorti du cadre
LOCATION:Galerie 111\\, Zweierstrasse 111\\, 8003 Zürich\\, CH
DESCRIPTION:"Les œuvres de l'artiste suisse Mike Wunderlin se situent à l'interface en
 tre matérialité et signification\\, entre objet et concept. Dans sa prati
 que\\, Wunderlin interroge la relation entre les objets du quotidien\\, l
 e langage et la forme avec un regard poétique sur le monde".&nbsp\\;- Des
 cription de l'exposition à la galerie Joss Toledo\\, juillet 2025&nbsp\\;
 &nbsp\\;
URL:https://oneartyminute.com/expositions/sorti-du-cadre
STATUS:CONFIRMED
BEGIN:VALARM
TRIGGER:-P1D
DESCRIPTION:L'exposition se termine demain !
ACTION:DISPLAY
END:VALARM
END:VEVENT
END:VCALENDAR
