BEGIN:VCALENDAR
VERSION:2.0
PRODID:-//OneArtyMinute//Calendar Export//FR
CALSCALE:GREGORIAN
METHOD:PUBLISH
BEGIN:VEVENT
UID:exposition-15603@oneartyminute.com
DTSTAMP:20260420T030125Z
DTSTART;VALUE=DATE:20260306
DTEND;VALUE=DATE:20260426
SUMMARY:IN SITU
LOCATION:La Conciergerie\\, 7 montée Saint-Jean\\, 73290 La Motte-Servolex\\, FR
DESCRIPTION:Peinture\\, photographie\\, vidéo\\, installationFlorence Barberis\\, Anne
 -Laure H-Blanc\\, Sylvie DeparisTrois artistes\\, trois démarches. L'expo
 sition est le fruit d’un parcours commun\\, nourri par plusieurs sessions
  d’échanges et d'expérimentations partagées autour d’un même élément : l’
 eau.Celui-ci devient pour chacune des artistes un terrain d’exploration s
 ensible à travers lequel elles questionnent notre relation au monde par l
 e regard\\, le geste\\, le toucher.Un cheminement\\, une co...
URL:https://oneartyminute.com/expositions/situ.html-0
STATUS:CONFIRMED
BEGIN:VALARM
TRIGGER:-P1D
DESCRIPTION:L'exposition se termine demain !
ACTION:DISPLAY
END:VALARM
END:VEVENT
END:VCALENDAR
