BEGIN:VCALENDAR
VERSION:2.0
PRODID:-//OneArtyMinute//Calendar Export//FR
CALSCALE:GREGORIAN
METHOD:PUBLISH
BEGIN:VEVENT
UID:exposition-15608@oneartyminute.com
DTSTAMP:20260420T041815Z
DTSTART;VALUE=DATE:20260321
DTEND;VALUE=DATE:20260425
SUMMARY:La saveur du temps
LOCATION:Maison des arts plastiques Rosa Bonheur\\, 34 ru Henri Cretté\\, 94550 Che
 villy-larue\\, FR
DESCRIPTION:De retour des contrées lointaines\\, le 21 mars\\, le printemps\\, la font
 e des neiges\\, les premières pousses ont percé sous la neige. Les corps 
 se dérident. Il reste dans la nature engourdie le souvenir glacé de corps
  enlacés que le temps aurait emportés. Et pourtant… le souvenir de la tét
 anie s’éloigne\\, la vitalité pulse dans les veines\\, la chlorophylle te
 inte et la sève monte. Après une première participation à une exposition 
 collective en 2020 à la Maison des arts plastiques\\,...
URL:https://oneartyminute.com/expositions/la-saveur-du-temps
STATUS:CONFIRMED
BEGIN:VALARM
TRIGGER:-P1D
DESCRIPTION:L'exposition se termine demain !
ACTION:DISPLAY
END:VALARM
END:VEVENT
END:VCALENDAR
