BEGIN:VCALENDAR
VERSION:2.0
PRODID:-//OneArtyMinute//Calendar Export//FR
CALSCALE:GREGORIAN
METHOD:PUBLISH
BEGIN:VEVENT
UID:exposition-15618@oneartyminute.com
DTSTAMP:20260422T195542Z
DTSTART;VALUE=DATE:20260314
DTEND;VALUE=DATE:20260503
SUMMARY:Anatoms Sonores
LOCATION:Galerie RDV\\, 16 Allée du Commandant Charcot\\, 44000 Nantes\\, FR
DESCRIPTION:La série Anatoms sonores fusionne photographie et son dans une démarche ex
 périmentale. Inspirée des disques soviétiques gravés sur des radiographie
 s\\, l’artiste détourne le film radiographique comme support visuel et so
 nore. Les œuvres exposées prolongent ses recherches sur les tirages analo
 giques et les performances sonores. La pièce Microsillons X utilise les v
 ibrations d’une feuille radiographique amplifiée et enregistrée sur ce mê
 me support. La fragilité du matériau tran...
URL:https://oneartyminute.com/expositions/anatoms-sonores
STATUS:CONFIRMED
BEGIN:VALARM
TRIGGER:-P1D
DESCRIPTION:L'exposition se termine demain !
ACTION:DISPLAY
END:VALARM
END:VEVENT
END:VCALENDAR
