BEGIN:VCALENDAR
VERSION:2.0
PRODID:-//OneArtyMinute//Calendar Export//FR
CALSCALE:GREGORIAN
METHOD:PUBLISH
BEGIN:VEVENT
UID:exposition-15625@oneartyminute.com
DTSTAMP:20260420T030028Z
DTSTART;VALUE=DATE:20260312
DTEND;VALUE=DATE:20260426
SUMMARY:Dans ma robe\\, couleur du temps
LOCATION:Galerie Les filles du calvaire\\, 17 rue des Filles du Calvaire\\, 75003 P
 aris\\, FR
DESCRIPTION:Intitulée Dans ma robe\\, couleur du temps\\, l’exposition explore ce mome
 nt fragile où l’enfance bascule vers l’adolescence. À travers un ensemble
  de sculptures\\, textiles et gravures\\, l’artiste met en scène une figu
 re féminine juvénile\\, démultipliée\\, saisie dans des postures d’étirem
 ent ou de danse. Ces corps\\, à la fois singuliers et pluriels\\, évoquen
 t l’intimité collective des cours de danse\\, avant l’apparition des prem
 ières pudeurs.&nbsp\\;À l’étage\\, le parcours se...
URL:https://oneartyminute.com/expositions/dans-ma-robe-couleur-du-temps
STATUS:CONFIRMED
BEGIN:VALARM
TRIGGER:-P1D
DESCRIPTION:L'exposition se termine demain !
ACTION:DISPLAY
END:VALARM
END:VEVENT
END:VCALENDAR
