BEGIN:VCALENDAR
VERSION:2.0
PRODID:-//OneArtyMinute//Calendar Export//FR
CALSCALE:GREGORIAN
METHOD:PUBLISH
BEGIN:VEVENT
UID:exposition-15635@oneartyminute.com
DTSTAMP:20260422T211524Z
DTSTART;VALUE=DATE:20260307
DTEND;VALUE=DATE:20260705
SUMMARY:36 Y'a d'la joie !
LOCATION:Les Amies Rouges\\, 10 RUE DOMAT\\, 75005 Paris\\, FR
DESCRIPTION:Les Amies Rouges proposent de fêter les 90 ans du Front populaire avec cet
 te série lumineuse des photographies de Pierre Jamet.&nbsp\\;Des images\\
 , noir et blanc - tirage argentique\\, qui nous régalent de cette joie de
  garçons et de filles profitant pleinement de l’insouciance des vacances.
 Une ode dynamique et positive à ce conquis social de 1936.&nbsp\\;Quoi de
  mieux alors que les photographies solaires de cet artiste qui a su avec 
 sensualité et gaieté attraper au vol ces moments de liess...
URL:https://oneartyminute.com/expositions/36-ya-dla-joie
STATUS:CONFIRMED
BEGIN:VALARM
TRIGGER:-P1D
DESCRIPTION:L'exposition se termine demain !
ACTION:DISPLAY
END:VALARM
END:VEVENT
END:VCALENDAR
