BEGIN:VCALENDAR
VERSION:2.0
PRODID:-//OneArtyMinute//Calendar Export//FR
CALSCALE:GREGORIAN
METHOD:PUBLISH
BEGIN:VEVENT
UID:exposition-15636@oneartyminute.com
DTSTAMP:20260422T195542Z
DTSTART;VALUE=DATE:20260420
DTEND;VALUE=DATE:20260430
SUMMARY:Playground
LOCATION:Make Ici\\, 135 Boulevard Chanzy \\, 93100 Montreuil\\, FR
DESCRIPTION:PLAYGROUNDExposition immersive – Duo d’artistes : Amande Noyée et Flavia S
 ueng&nbsp\\;Entrer dans PLAYGROUND\\, c’est faire l’expérience d’un nouve
 l univers où la couleur devient espace et le jeu\\, un langage.&nbsp\\;Ce
  n’est plus seulement regarder des œuvres\\, c’est traverser un paysage.&
 nbsp\\;&nbsp\\;La couleur quitte le mur : elle s’étend\\, se suspend\\, f
 lotte dans l’espace. Collages\\, surfaces peintes et formes textiles colo
 rées dialoguent entre elles. Des volumes descendent du...
URL:https://oneartyminute.com/expositions/playground
STATUS:CONFIRMED
BEGIN:VALARM
TRIGGER:-P1D
DESCRIPTION:L'exposition se termine demain !
ACTION:DISPLAY
END:VALARM
END:VEVENT
END:VCALENDAR
