BEGIN:VCALENDAR
VERSION:2.0
PRODID:-//OneArtyMinute//Calendar Export//FR
CALSCALE:GREGORIAN
METHOD:PUBLISH
BEGIN:VEVENT
UID:exposition-15664@oneartyminute.com
DTSTAMP:20260422T195344Z
DTSTART;VALUE=DATE:20260523
DTEND;VALUE=DATE:20260621
SUMMARY:Les Filles du Calvaire : 30 ans et plus
LOCATION:Les filles du Calvaire \\, 21 rue Chapon\\, 75003 Paris\\, FR
DESCRIPTION:La galerie célèbre du 23 mai au 20 juin\\, plus de trente années d’engagem
 ent au service de la création contemporaine. Pour autant\\, il ne s’agit 
 pas ici de revenir sur un parcours accompli\\, mais d’affirmer une contin
 uité vivante. 30 ans et plus n’est pas une rétrospective. C’est une décla
 ration d’intention\\, celle d’une galerie qui cultive sa raison d’être : 
 accompagner les artistes et valoriser les pratiques artistiques actuelles
 .&nbsp\\;À travers une œuvre par artiste\\, ...
URL:https://oneartyminute.com/expositions/les-filles-du-calvaire-30-ans-et-plus
STATUS:CONFIRMED
BEGIN:VALARM
TRIGGER:-P1D
DESCRIPTION:L'exposition se termine demain !
ACTION:DISPLAY
END:VALARM
END:VEVENT
END:VCALENDAR
