BEGIN:VCALENDAR
VERSION:2.0
PRODID:-//OneArtyMinute//Calendar Export//FR
CALSCALE:GREGORIAN
METHOD:PUBLISH
BEGIN:VEVENT
UID:exposition-15679@oneartyminute.com
DTSTAMP:20260420T030034Z
DTSTART;VALUE=DATE:20260326
DTEND;VALUE=DATE:20260515
SUMMARY:Un ruban de soleil
LOCATION:Galerie Les Montparnos\\, 5 rue Stanislas\\, 75006 Paris\\, FR
DESCRIPTION:C’est toujours une joie profonde de découvrir un peintre. Mais ici la joie
  est double\\, car il s’agit non pas d’un peintre\\, mais de deux\\, et p
 lus précisément d’un couple&nbsp\\;: Claude et Noël Franc\\, deux destins
  à part entière\\, deux caractères\\, deux routes qui se rencontrent pour
  partager une même aventure\\, la peinture. &nbsp\\;&nbsp\\;Tous deux son
 t nés en 1935 et d’origine lyonnaise. Claude étudie les arts décoratifs à
  Paris&nbsp\\;\\; Noël se forme aux Beaux-Arts de Lyon. Ava...
URL:https://oneartyminute.com/expositions/un-ruban-de-soleil
STATUS:CONFIRMED
BEGIN:VALARM
TRIGGER:-P1D
DESCRIPTION:L'exposition se termine demain !
ACTION:DISPLAY
END:VALARM
END:VEVENT
END:VCALENDAR
