BEGIN:VCALENDAR
VERSION:2.0
PRODID:-//OneArtyMinute//Calendar Export//FR
CALSCALE:GREGORIAN
METHOD:PUBLISH
BEGIN:VEVENT
UID:exposition-15686@oneartyminute.com
DTSTAMP:20260420T041815Z
DTSTART;VALUE=DATE:20260321
DTEND;VALUE=DATE:20260517
SUMMARY:Paintings and Other Things
LOCATION:Galerie Anne-Sarah Bénichou\\, 45 rue chapon\\, 75003 Paris\\, FR
DESCRIPTION:Pour sa troisième exposition à la galerie\\, Paintings and Other Things\\,
  Mireille Blanc présente un ensemble inédit de nouvelles pièces : peintur
 es\\, céramiques et tee-shirt.
URL:https://oneartyminute.com/expositions/paintings-and-other-things
STATUS:CONFIRMED
BEGIN:VALARM
TRIGGER:-P1D
DESCRIPTION:L'exposition se termine demain !
ACTION:DISPLAY
END:VALARM
END:VEVENT
END:VCALENDAR
