BEGIN:VCALENDAR
VERSION:2.0
PRODID:-//OneArtyMinute//Calendar Export//FR
CALSCALE:GREGORIAN
METHOD:PUBLISH
BEGIN:VEVENT
UID:exposition-15693@oneartyminute.com
DTSTAMP:20260420T041703Z
DTSTART;VALUE=DATE:20260326
DTEND;VALUE=DATE:20260517
SUMMARY:SOLOSHOW
LOCATION:Galerie Ceysson & Bénétière\\, 23 R. du Renard\\, 75004 Paris\\, FR
DESCRIPTION:Du 26 mars au 16 mai 2026\\, la galerie Ceysson &amp\\; Bénétière présente
  pour la première fois dans son espace parisien\\, une exposition monogra
 phique consacrée à Jean-Luc Verna. Avec SOLOSHOW\\, l’artiste pluridiscip
 linaire déploie un ensemble d’œuvres récentes\\, révélatrices de son univ
 ers singulier. Cette présentation inédite offre l’occasion d’appréhender 
 la richesse et la complexité d’une pratique qui engage pleinement l’espac
 e et les codes de la représentation.&nb...
URL:https://oneartyminute.com/expositions/soloshow
STATUS:CONFIRMED
BEGIN:VALARM
TRIGGER:-P1D
DESCRIPTION:L'exposition se termine demain !
ACTION:DISPLAY
END:VALARM
END:VEVENT
END:VCALENDAR
