BEGIN:VCALENDAR
VERSION:2.0
PRODID:-//OneArtyMinute//Calendar Export//FR
CALSCALE:GREGORIAN
METHOD:PUBLISH
BEGIN:VEVENT
UID:exposition-15694@oneartyminute.com
DTSTAMP:20260420T042620Z
DTSTART;VALUE=DATE:20260306
DTEND;VALUE=DATE:20260524
SUMMARY:Claude Viallat sa Forme a soixante ans. 1966 - 2026 Hommage à Henriette Vi
 allat
LOCATION:Galerie Ceysson & Bénétière\\, 10 Rue des Aciéries\\, 42000 Saint-Étienne\
 \, FR
DESCRIPTION:Pour célébrer ses 20 ans\\, Ceysson &amp\\; Bénétière Saint-Étienne présen
 te\\, du 6 mars au 23 mai 2026\\, une exposition retraçant les 60 ans de 
 carrière de Claude Viallat\\, premier artiste exposé par la galerie dans 
 cette même ville il y a deux décennies Extrait issu du texte Claude Viall
 at&nbsp\\;: sa Forme a soixante ans de Bernard Ceysson&nbsp\\;«&nbsp\\;Ce
 tte exposition est une exposition thématique. Mais\\, c’est une expositio
 n qui ne peut l’être vraiment. Peut-être\\, est-il temps d...
URL:https://oneartyminute.com/expositions/claude-viallat-sa-forme-soixante-ans-1966-2026-hommage-henriette-viallat
STATUS:CONFIRMED
BEGIN:VALARM
TRIGGER:-P1D
DESCRIPTION:L'exposition se termine demain !
ACTION:DISPLAY
END:VALARM
END:VEVENT
END:VCALENDAR
