BEGIN:VCALENDAR
VERSION:2.0
PRODID:-//OneArtyMinute//Calendar Export//FR
CALSCALE:GREGORIAN
METHOD:PUBLISH
BEGIN:VEVENT
UID:exposition-15696@oneartyminute.com
DTSTAMP:20260420T025915Z
DTSTART;VALUE=DATE:20260327
DTEND;VALUE=DATE:20260524
SUMMARY:La grille et le regard
LOCATION:Andréhn-Schiptjenko Paris\\, 56 Rue Chapon\\, 75003 Paris\\, FR
DESCRIPTION:Depuis plus de trente ans\\, l’artiste suédois Matts Leiderstam explore le
 s liens entre peinture\\, histoire de l’art et perception du regard. À tr
 avers une pratique mêlant recherche\\, peinture et réflexion critique\\, 
 il interroge la manière dont les images sont construites\\, présentées et
  interprétées.&nbsp\\;Cette nouvelle exposition prolonge son travail auto
 ur de l’histoire de l’art et du motif de la grille. Inspirée notamment d’
 un tableau de Claude Lorrain conservé au National...
URL:https://oneartyminute.com/expositions/la-grille-et-le-regard
STATUS:CONFIRMED
BEGIN:VALARM
TRIGGER:-P1D
DESCRIPTION:L'exposition se termine demain !
ACTION:DISPLAY
END:VALARM
END:VEVENT
END:VCALENDAR
