BEGIN:VCALENDAR
VERSION:2.0
PRODID:-//OneArtyMinute//Calendar Export//FR
CALSCALE:GREGORIAN
METHOD:PUBLISH
BEGIN:VEVENT
UID:exposition-15705@oneartyminute.com
DTSTAMP:20260420T041729Z
DTSTART;VALUE=DATE:20260401
DTEND;VALUE=DATE:20260501
SUMMARY:Expo Poissons !
LOCATION:Automatikart/La Galerie Miniature\\, place Bellegarde\\, 13090 Aix-en-Prov
 ence\\, FR
DESCRIPTION:Pour sa nouvelle exposition\\, La Galerie Miniature proposera une sélectio
 n foisonnante d'artistes et accueillera la collection des journaux BD des
  rencontres du 9e Art et arts associés.En avril\\, La Galerie Miniature c
 ontinue à tirer le fil de sa tombola artistique organisée fin 2025. Grâce
  à elle\\, nous avons le plaisir d'inviter l'artiste Patrick Jannin\\, qu
 i présentera une série d'encres\\, peintures acryliques et cartes à gratt
 er. Une sélection foisonnante à découvrir aux côtés de...
URL:https://oneartyminute.com/expositions/expo-poissons
STATUS:CONFIRMED
BEGIN:VALARM
TRIGGER:-P1D
DESCRIPTION:L'exposition se termine demain !
ACTION:DISPLAY
END:VALARM
END:VEVENT
END:VCALENDAR
