BEGIN:VCALENDAR
VERSION:2.0
PRODID:-//OneArtyMinute//Calendar Export//FR
CALSCALE:GREGORIAN
METHOD:PUBLISH
BEGIN:VEVENT
UID:exposition-15721@oneartyminute.com
DTSTAMP:20260422T195542Z
DTSTART;VALUE=DATE:20260501
DTEND;VALUE=DATE:20260817
SUMMARY:Frédéric Cordier. Mécanique du paysage
LOCATION:Musée Jenisch Vevey\\, Avenue de la Gare 2\\, 1800 Vevey\\, CH
DESCRIPTION:Dans son Åuvre graveÌ\\, lâartiste canado-suisse FreÌdeÌric Cordier 
 (*1985)&nbsp\\;explore les transformations du paysage sous lâeffet de l
 âactiviteÌ humaine. Ses panoramas\\, concÌ§us comme des Â« caprices co
 ntemporains Â»\\, remplacent les ruines romantiques par des gratte-ciel\\
 , des infrastructures et des baÌtiments industriels. Leur monumentaliteÌ
  et leur preÌcision traduisent une fascination critique pour lâempris
 e des structures humaines sur la nature.Son vocabulaire graphique â...
URL:https://oneartyminute.com/expositions/frederic-cordier-mecanique-du-paysage
STATUS:CONFIRMED
BEGIN:VALARM
TRIGGER:-P1D
DESCRIPTION:L'exposition se termine demain !
ACTION:DISPLAY
END:VALARM
END:VEVENT
END:VCALENDAR
