BEGIN:VCALENDAR
VERSION:2.0
PRODID:-//OneArtyMinute//Calendar Export//FR
CALSCALE:GREGORIAN
METHOD:PUBLISH
BEGIN:VEVENT
UID:exposition-15729@oneartyminute.com
DTSTAMP:20260422T195434Z
DTSTART;VALUE=DATE:20260328
DTEND;VALUE=DATE:20260629
SUMMARY:Horror\\, Humor and the Absurd
LOCATION:Casa de Cultura do Parque\\,  Av. Prof. Fonseca Rodrigues\\, 1300 – Alto d
 e Pinheiros\\, 05461-010 São Paulo\\, BR
DESCRIPTION:Casa de Cultura do Parque presents\\, from&nbsp\\;March 28 to June 28\\, 2
 026\\, the exhibition&nbsp\\;“Horror\\, Humor and the Absurd” (Galeria do
  Parque)\\, as part of its&nbsp\\;I Exhibition Cycle. Curated by&nbsp\\;J
 osé Augusto Ribeiro\\, the group show brings together works by&nbsp\\;Dar
 ks Miranda (Fortaleza\\, 1985)\\,&nbsp\\;Flávia Metzler (Rio de Janeiro\\
 , 1974)\\,&nbsp\\;Ivan Cardoso&nbsp\\;(Rio de Janeiro\\, 1952)\\, and&nbs
 p\\;Yuli Yamagata&nbsp\\;(São Paulo\\, 1989) to reflect on a contemporary
  production marked by im...
URL:https://oneartyminute.com/expositions/horror-humor-and-absurd
STATUS:CONFIRMED
BEGIN:VALARM
TRIGGER:-P1D
DESCRIPTION:L'exposition se termine demain !
ACTION:DISPLAY
END:VALARM
END:VEVENT
END:VCALENDAR
