BEGIN:VCALENDAR
VERSION:2.0
PRODID:-//OneArtyMinute//Calendar Export//FR
CALSCALE:GREGORIAN
METHOD:PUBLISH
BEGIN:VEVENT
UID:exposition-15730@oneartyminute.com
DTSTAMP:20260422T195434Z
DTSTART;VALUE=DATE:20260328
DTEND;VALUE=DATE:20260629
SUMMARY:Badauê
LOCATION:Casa de Cultura do Parque\\, Av. Prof. Fonseca Rodrigues\\, 1300 - Alto de
  Pinheiros São Paulo \\, 05461-010 São Paulo\\, BR
DESCRIPTION:Casa de Cultura do Parque presents\\, from&nbsp\\;March 28 to June 28\\, 2
 026\\, the exhibition&nbsp\\;“Badauê”&nbsp\\;by&nbsp\\;Andrea Brazil (Gab
 inete)\\, as part of its I Exhibition Cycle. Curated by&nbsp\\;Claudio Cr
 etti\\, the institution’s artistic director\\, with a text by Ana Avelar\
 \, the show brings together works marked by geometrization and the visual
  reconfiguration of vernacular architecture.&nbsp\\;Andrea Brazil’s traje
 ctory (São Paulo\\, 1972) between Salvador and Itaparica Island\\, in Bah
 ia’...
URL:https://oneartyminute.com/expositions/badaue
STATUS:CONFIRMED
BEGIN:VALARM
TRIGGER:-P1D
DESCRIPTION:L'exposition se termine demain !
ACTION:DISPLAY
END:VALARM
END:VEVENT
END:VCALENDAR
