BEGIN:VCALENDAR
VERSION:2.0
PRODID:-//OneArtyMinute//Calendar Export//FR
CALSCALE:GREGORIAN
METHOD:PUBLISH
BEGIN:VEVENT
UID:exposition-15739@oneartyminute.com
DTSTAMP:20260420T025917Z
DTSTART;VALUE=DATE:20260312
DTEND;VALUE=DATE:20260501
SUMMARY:Raison et Folie
LOCATION:Enseigne des Oudin\\, 4 rue Martel\\, Porte E sous-sol\\, 75010 Paris\\, F
 R
DESCRIPTION:Le spectateur découvre les silences. Les strates d’interprétations d’une s
 culpture demandent une attention. Bistra en montre plusieurs. Dans une mi
 se en scène immobile\\, indifférente à la durée\\, les sculptures dialogu
 ent\\, non pour se distraire de leur condition d’œuvre d’art\\, mais dans
  l’inaudible langage du cosmos. Les figures mutilées ou grotesques en son
 t les aléas. On distingue rapidement l’immuable\\, la vie. «&nbsp\\;APRÈS
 &nbsp\\;» est une ronde sur baguettes qui divulg...
URL:https://oneartyminute.com/expositions/raison-et-folie
STATUS:CONFIRMED
BEGIN:VALARM
TRIGGER:-P1D
DESCRIPTION:L'exposition se termine demain !
ACTION:DISPLAY
END:VALARM
END:VEVENT
END:VCALENDAR
