BEGIN:VCALENDAR
VERSION:2.0
PRODID:-//OneArtyMinute//Calendar Export//FR
CALSCALE:GREGORIAN
METHOD:PUBLISH
BEGIN:VEVENT
UID:exposition-15740@oneartyminute.com
DTSTAMP:20260420T025854Z
DTSTART;VALUE=DATE:20260402
DTEND;VALUE=DATE:20260426
SUMMARY:L'origine
LOCATION:Galerie 21- Toulouse\\, 3\\, Impasse de la Trésorerie\\, 31000 Toulouse (3
 1000)\\, France\\, FR
DESCRIPTION:OrigineUn sujet qui soulÃ¨ve de grands dÃ©bats\\, pourtant la question dâ
 origine nâest ni plus ni moins quâun angle de vue sur notre concept 
 de Â«â¯natureâ¯Â».LâOrigo\\, le commencement\\, ou la premiÃ¨re appar
 ition\\, dâun Ã©tat ou dâune forme\\, câest aussi la responsabilitÃ
 ©.Ã partir du moment ou notre mental prend conscience\\, lâorigine dev
 ient lâessence dâun Ãªtre\\, dâune forme.Lâorigine de toute chose
  est donc dans la nature. Or\\, la nature dâune chose exprime sa vÃ©rit
 Ã...
URL:https://oneartyminute.com/expositions/lorigine
STATUS:CONFIRMED
BEGIN:VALARM
TRIGGER:-P1D
DESCRIPTION:L'exposition se termine demain !
ACTION:DISPLAY
END:VALARM
END:VEVENT
END:VCALENDAR
