BEGIN:VCALENDAR
VERSION:2.0
PRODID:-//OneArtyMinute//Calendar Export//FR
CALSCALE:GREGORIAN
METHOD:PUBLISH
BEGIN:VEVENT
UID:exposition-15741@oneartyminute.com
DTSTAMP:20260420T025855Z
DTSTART;VALUE=DATE:20260417
DTEND;VALUE=DATE:20260426
SUMMARY:Écho - Matières
LOCATION:Galerie Etienne de Causans\\, 25 rue de Seine\\, 75006 Paris\\, FR
DESCRIPTION:Écho-Matières explore la puissance sensible des matériaux — bois\\, textil
 e\\, cuir\\, métal ou terre — révélant comment ils continuent de vibrer b
 ien après leur transformation par l’artiste. L’exposition met en lumière 
 leur mémoire tactile : rugosités\\, souplesses\\, densités qui éveillent 
 des émotions enfouies et suscitent une expérience intime. Les œuvres\\, q
 u’elles soient figuratives ou abstraites\\, dialoguent par leur charge pe
 rceptive plutôt que par leur style. Inspiré...
URL:https://oneartyminute.com/expositions/echo-matieres
STATUS:CONFIRMED
BEGIN:VALARM
TRIGGER:-P1D
DESCRIPTION:L'exposition se termine demain !
ACTION:DISPLAY
END:VALARM
END:VEVENT
END:VCALENDAR
