BEGIN:VCALENDAR
VERSION:2.0
PRODID:-//OneArtyMinute//Calendar Export//FR
CALSCALE:GREGORIAN
METHOD:PUBLISH
BEGIN:VEVENT
UID:exposition-15749@oneartyminute.com
DTSTAMP:20260420T025337Z
DTSTART;VALUE=DATE:20260321
DTEND;VALUE=DATE:20260508
SUMMARY:JITISH KALLAT Point of Incidence
LOCATION:Galerie Templon\\, 28 Rue du Grenier-Saint-Lazare\\, 75003 Paris\\, FR
DESCRIPTION:À partir du 21 mars 2026\\, Jitish Kallat revient à Templon Paris avec « P
 OINT OF INCIDENCE »\\, un nouvel ensemble d'œuvres explorant notre relati
 on à l'univers et la façon dont l'humanité a cherché à l'habiter et à le 
 façonner.&nbsp\\;« POINT OF INCIDENCE » se déploie autour d'un axe Terre-
 Lune\\, faisant dialoguer deux œuvres majeures - Albedo (Point of Inciden
 ce) et Lunar Redux - avec un ensemble de toiles et sculptures satellites.
  Sans représenter directement ni la Terre ni la L...
URL:https://oneartyminute.com/expositions/jitish-kallat-point-incidence
STATUS:CONFIRMED
BEGIN:VALARM
TRIGGER:-P1D
DESCRIPTION:L'exposition se termine demain !
ACTION:DISPLAY
END:VALARM
END:VEVENT
END:VCALENDAR
