BEGIN:VCALENDAR
VERSION:2.0
PRODID:-//OneArtyMinute//Calendar Export//FR
CALSCALE:GREGORIAN
METHOD:PUBLISH
BEGIN:VEVENT
UID:exposition-15750@oneartyminute.com
DTSTAMP:20260420T025410Z
DTSTART;VALUE=DATE:20260321
DTEND;VALUE=DATE:20260508
SUMMARY:ABDELKADER BENCHAMMA Signs and Wonders 
LOCATION:Galerie Templon\\, 30 rue Beaubourg\\, 75003\\, Paris\\, 75003 PARIS\\, FR
DESCRIPTION:« […] L'œuvre d'Abdelkader Benchamma\\, le dessin\\, son médium de prédile
 ction\\, ne se conçoit pas comme un objet fixe\\, défini par le rectangle
  de la feuille de papier\\, mais comme une énergie envahissant l'espace e
 t le temps. »Jeanne Brun\\, à propos de l'installation Au bord des mondes
  (2024)\\, d'Abdelkader Benchamma\\, pour le Prix Marcel Duchamp.&nbsp\\;
 Abdelkader Benchamma est de retour ce printemps pour sa quatrième exposit
 ion personnelle à la galerie Templon avec Signs and Wonders.Jou...
URL:https://oneartyminute.com/expositions/abdelkader-benchamma-signs-and-wonders
STATUS:CONFIRMED
BEGIN:VALARM
TRIGGER:-P1D
DESCRIPTION:L'exposition se termine demain !
ACTION:DISPLAY
END:VALARM
END:VEVENT
END:VCALENDAR
