BEGIN:VCALENDAR
VERSION:2.0
PRODID:-//OneArtyMinute//Calendar Export//FR
CALSCALE:GREGORIAN
METHOD:PUBLISH
BEGIN:VEVENT
UID:exposition-15763@oneartyminute.com
DTSTAMP:20260420T025411Z
DTSTART;VALUE=DATE:20260415
DTEND;VALUE=DATE:20260510
SUMMARY:Raphaëlle PIA
LOCATION:GALERIE UNIVER / COLETTE COLLA\\, 6 Cité de l'Ameublement\\, Rez de chauss
 ée\\, 75011 Paris\\, FR
DESCRIPTION:Raphaëlle Pia absorbe la nature\\, pour nous en restituer son émotion. Ell
 e sait observer et ressentir de l’intérieur le souffle du vent\\, la moin
 dre vibration\\, le retrait de la vague\\, l’immersion au cœur de l’arbre
 \\, l’effervescence et le bouillonnement du printemps dans les branches\\
 , l’obscurité oppressante de la forêt\\, la puissance et la force de ses 
 troncs. Sans être une rétrospective\\, l’exposition montre quelques série
 s récentes de l’artiste\\, marées\\, forêt\\, les arbr...
URL:https://oneartyminute.com/expositions/exposition-raphaelle-pia
STATUS:CONFIRMED
BEGIN:VALARM
TRIGGER:-P1D
DESCRIPTION:L'exposition se termine demain !
ACTION:DISPLAY
END:VALARM
END:VEVENT
END:VCALENDAR
