BEGIN:VCALENDAR
VERSION:2.0
PRODID:-//OneArtyMinute//Calendar Export//FR
CALSCALE:GREGORIAN
METHOD:PUBLISH
BEGIN:VEVENT
UID:exposition-15764@oneartyminute.com
DTSTAMP:20260420T025338Z
DTSTART;VALUE=DATE:20260415
DTEND;VALUE=DATE:20260510
SUMMARY:Jean-François BAUDÉ
LOCATION:GALERIE UNIVER / COLETTE COLLA\\, 6 Cité de l'Ameublement\\, Rez de chauss
 ée\\, 75011 Paris\\, FR
DESCRIPTION:Jean-François Baudé nous laisse rêver le paysage. Il le suggère\\, jouant 
 des la profondeur des encres noires\\, cobalt\\, terre. Si le paysage est
  toujours présent\\, l’artiste le réduit à l’essentiel\\, les lignes et m
 asses des montagnes\\, les ombres et\\, les détails s’ils restent présent
  sont noyés dans la brume. Paysages de brume ou impression de flou ? Il v
 a à l’essentiel du ressenti. Il faut sans doute une grande observation po
 ur parvenir ainsi à nous faire retrouver l’image s...
URL:https://oneartyminute.com/expositions/exposition-jean-francois-baude
STATUS:CONFIRMED
BEGIN:VALARM
TRIGGER:-P1D
DESCRIPTION:L'exposition se termine demain !
ACTION:DISPLAY
END:VALARM
END:VEVENT
END:VCALENDAR
