BEGIN:VCALENDAR
VERSION:2.0
PRODID:-//OneArtyMinute//Calendar Export//FR
CALSCALE:GREGORIAN
METHOD:PUBLISH
BEGIN:VEVENT
UID:exposition-15766@oneartyminute.com
DTSTAMP:20260420T025337Z
DTSTART;VALUE=DATE:20260418
DTEND;VALUE=DATE:20260524
SUMMARY:Bleu végétal
LOCATION:Galerie Alberta Pane\\, 44 et 47 rue de Montmorency\\, 75003 Paris\\, FR
DESCRIPTION:Les œuvres de Marie Denis sont des explorations introspectives où l’expéri
 ence et l’empirisme deviennent ses fils conducteurs. À travers des matéri
 aux inattendus\\, tels que le papier carbone ou le fax-herbier\\, elle ré
 invente les notions de trace et de dessin.&nbsp\\;À l’occasion de Bleu vé
 gétal\\, sa nouvelle exposition personnelle à la galerie parisienne\\, l’
 artiste présente une nouvelle série d’œuvres réalisées à partir de papier
  carbone. Plié et façonné\\, le matériau...
URL:https://oneartyminute.com/expositions/bleu-vegetal
STATUS:CONFIRMED
BEGIN:VALARM
TRIGGER:-P1D
DESCRIPTION:L'exposition se termine demain !
ACTION:DISPLAY
END:VALARM
END:VEVENT
END:VCALENDAR
