BEGIN:VCALENDAR
VERSION:2.0
PRODID:-//OneArtyMinute//Calendar Export//FR
CALSCALE:GREGORIAN
METHOD:PUBLISH
BEGIN:VEVENT
UID:exposition-15775@oneartyminute.com
DTSTAMP:20260422T194814Z
DTSTART;VALUE=DATE:20260423
DTEND;VALUE=DATE:20260720
SUMMARY:Anniversarium Stress
LOCATION:MABA\\, 16 rue Charles VII\\, 94130 Nogent sur marne\\, FR
DESCRIPTION:Artistes :&nbsp\\;Sylvie Auvray\\, Claude Closky\\, Vincent Olinet\\, Céci
 le Paris\\, Emma Passera\\, Jean-Francois Peschot\\, Elisa Pône\\, Tony R
 egazzoni\\, Franck Scurti\\, Jeanne Susplugas\\, TurpentineCommissaire :C
 aroline Cournède&nbsp\\;L'exposition&nbsp\\;Anniversarium Stress\\,&nbsp\
 \;à travers des médiums multiples (dessin\\, peinture\\, vidéo\\, sculptu
 re\\, installation…)\\, traduit l’ambivalence de l’anniversaire entre joi
 e de la fête et mélancolie du temps qui passe. Réunissant une liste d’art
 istes in...
URL:https://oneartyminute.com/expositions/anniversarium-stress
STATUS:CONFIRMED
BEGIN:VALARM
TRIGGER:-P1D
DESCRIPTION:L'exposition se termine demain !
ACTION:DISPLAY
END:VALARM
END:VEVENT
END:VCALENDAR
