BEGIN:VCALENDAR
VERSION:2.0
PRODID:-//OneArtyMinute//Calendar Export//FR
CALSCALE:GREGORIAN
METHOD:PUBLISH
BEGIN:VEVENT
UID:exposition-15776@oneartyminute.com
DTSTAMP:20260422T194814Z
DTSTART;VALUE=DATE:20260502
DTEND;VALUE=DATE:20260628
SUMMARY:Storia Dell'Arte Italiana
LOCATION:Galerie Modulab \\, 28 rue Mazelle\\, 57000 Metz\\, FR
DESCRIPTION:STORIA DELL’ARTE ITALIANAExposition personnelle de Gianpaolo Pagni&nbsp\\;
 En 2024\\, après avoir travaillé à partir de ses anciens manuels scolaire
 s — livres de biologie\\, de sténographie ou encore cahiers de mathématiq
 ues — Gianpaolo Pagni entreprend une nouvelle série intitulé Storia dell’
 arte Italiana en intervenant directement sur son propre manuel d’histoire
  de l’art italien de Giulio Carlo Argan\\, ouvrage emblématique qui a acc
 ompagné la formation de générations d’ét...
URL:https://oneartyminute.com/expositions/storia-dellarte-italiana
STATUS:CONFIRMED
BEGIN:VALARM
TRIGGER:-P1D
DESCRIPTION:L'exposition se termine demain !
ACTION:DISPLAY
END:VALARM
END:VEVENT
END:VCALENDAR
