BEGIN:VCALENDAR
VERSION:2.0
PRODID:-//OneArtyMinute//Calendar Export//FR
CALSCALE:GREGORIAN
METHOD:PUBLISH
BEGIN:VEVENT
UID:exposition-15777@oneartyminute.com
DTSTAMP:20260420T025410Z
DTSTART;VALUE=DATE:20260422
DTEND;VALUE=DATE:20260517
SUMMARY:Crossing
LOCATION:AREA\\, 46 Rue de Paradis\\, 75010 Paris\\, FR
DESCRIPTION:Cheung Chi Wai\\, né et vivant en Chine\\, a toujours assouvi sa passion p
 our l'art sans jamais prétendre occuper une place sur le marché. Son trav
 ail\\, essentiellement composé de portraits et de scènes de la vie quotid
 ienne en Chine\\, se caractérise par ce que l’on pourrait appeler un expr
 essionnisme radical.&nbsp\\;Depuis toujours\\, il aime les échanges et ap
 précie particulièrement de travailler sur une même toile avec un autre ar
 tiste. Sans contrainte de sujet ni de direction commune\\, i...
URL:https://oneartyminute.com/expositions/crossing-0
STATUS:CONFIRMED
BEGIN:VALARM
TRIGGER:-P1D
DESCRIPTION:L'exposition se termine demain !
ACTION:DISPLAY
END:VALARM
END:VEVENT
END:VCALENDAR
