BEGIN:VCALENDAR
VERSION:2.0
PRODID:-//OneArtyMinute//Calendar Export//FR
CALSCALE:GREGORIAN
METHOD:PUBLISH
BEGIN:VEVENT
UID:exposition-15780@oneartyminute.com
DTSTAMP:20260420T025338Z
DTSTART;VALUE=DATE:20260411
DTEND;VALUE=DATE:20260511
SUMMARY:DE-NATURES
LOCATION:MUSÉE FRANÇOIS POMPON\\, 3\\, Place du Docteur Roclore\\, 21210 SAULIEU\\,
  FR
DESCRIPTION:L'artiste espagnol\\, confronte une trentaine d'oeuvres ( peintures\\, scu
 lptures\\, dessins) à celles du célèbre sculpteur animalier.&nbsp\\;Un di
 alogue évident pour ces deux artistes qui partagent cette volonté commune
  de simplification et d'expression pure.
URL:https://oneartyminute.com/expositions/de-natures
STATUS:CONFIRMED
BEGIN:VALARM
TRIGGER:-P1D
DESCRIPTION:L'exposition se termine demain !
ACTION:DISPLAY
END:VALARM
END:VEVENT
END:VCALENDAR
