BEGIN:VCALENDAR
VERSION:2.0
PRODID:-//OneArtyMinute//Calendar Export//FR
CALSCALE:GREGORIAN
METHOD:PUBLISH
BEGIN:VEVENT
UID:exposition-15801@oneartyminute.com
DTSTAMP:20260424T111550Z
DTSTART;VALUE=DATE:20260425
DTEND;VALUE=DATE:20260907
SUMMARY:Vazante
LOCATION:Casa de Cultura do Parque\\, Av. Prof. Fonseca Rodrigues\\, 1300 - Alto de
  Pinheiros São Paulo \\, 05461-010 São Paulo\\, BR
DESCRIPTION:On the Casa de Cultura do Parque’s façade\\, new flags by Iara Freiberg (S
 ão Paulo\\, 1977)—part of the Dando Bandeira project—explore contrasts be
 tween fullness and emptiness\\, light and darkness\\, transparency and op
 acity. The Argentine-Brazilian artist investigates the relationships betw
 een body\\, architecture\\, and space. Spaces of circulation\\, emptiness
 \\, and abandonment recur in her work and are tensioned through intervent
 ions involving drawing\\, painting\\, photography\\, and installation. I.
 ..
URL:https://oneartyminute.com/expositions/vazante
STATUS:CONFIRMED
BEGIN:VALARM
TRIGGER:-P1D
DESCRIPTION:L'exposition se termine demain !
ACTION:DISPLAY
END:VALARM
END:VEVENT
END:VCALENDAR
