BEGIN:VCALENDAR
VERSION:2.0
PRODID:-//OneArtyMinute//Calendar Export//FR
CALSCALE:GREGORIAN
METHOD:PUBLISH
BEGIN:VEVENT
UID:finissage-15569@oneartyminute.com
DTSTAMP:20260422T195557Z
DTSTART:20260425T120000Z
DTEND:20260425T140000Z
SUMMARY:Everything Fades. The Horizon Recedes. (Tout s'éteint. L'horizon recule.) 
 - Finissage
LOCATION:Michèle Schoonjans Gallery\\, 690/25 Chaussée de Waterloo\\, Rivoli Buildi
 ng\\, 1180 Bruxelles\\, BE
DESCRIPTION:La rencontre avec des fenêtres du quotidien et leurs intérieurs marque la 
 première entrée de Laurent Dumortier vers le dessin. Des balades nocturne
 s à Namur\\, Liège et Bruxelles amènent l’artiste à regarder autrement\\,
  à considérer ces fenêtres comme de véritables tableaux vivants. Son rega
 rd se pose sur les ombres et la lumière\\, la présence et l’absence\\, le
 s sons\\, les couleurs\\, les objets et les corps.&nbsp\\;Ces éléments\\,
  saisis par l’observation\\, le croquis ou la prise de...
URL:https://oneartyminute.com/expositions/everything-fades-horizon-recedes-tout-seteint-lhorizon-recule
STATUS:CONFIRMED
BEGIN:VALARM
TRIGGER:-PT1H
DESCRIPTION:Rappel : événement dans 1 heure
ACTION:DISPLAY
END:VALARM
END:VEVENT
END:VCALENDAR
