BEGIN:VCALENDAR
VERSION:2.0
PRODID:-//OneArtyMinute//Calendar Export//FR
CALSCALE:GREGORIAN
METHOD:PUBLISH
BEGIN:VEVENT
UID:finissage-15618@oneartyminute.com
DTSTAMP:20260422T195734Z
DTSTART:20260502T110000Z
DTEND:20260502T130000Z
SUMMARY:Anatoms Sonores - Finissage
LOCATION:Galerie RDV\\, 16 Allée du Commandant Charcot\\, 44000 Nantes\\, FR
DESCRIPTION:La série Anatoms sonores fusionne photographie et son dans une démarche ex
 périmentale. Inspirée des disques soviétiques gravés sur des radiographie
 s\\, l’artiste détourne le film radiographique comme support visuel et so
 nore. Les œuvres exposées prolongent ses recherches sur les tirages analo
 giques et les performances sonores. La pièce Microsillons X utilise les v
 ibrations d’une feuille radiographique amplifiée et enregistrée sur ce mê
 me support. La fragilité du matériau tran...
URL:https://oneartyminute.com/expositions/anatoms-sonores
STATUS:CONFIRMED
BEGIN:VALARM
TRIGGER:-PT1H
DESCRIPTION:Rappel : événement dans 1 heure
ACTION:DISPLAY
END:VALARM
END:VEVENT
END:VCALENDAR
