BEGIN:VCALENDAR
VERSION:2.0
PRODID:-//OneArtyMinute//Calendar Export//FR
CALSCALE:GREGORIAN
METHOD:PUBLISH
BEGIN:VEVENT
UID:finissage-15640@oneartyminute.com
DTSTAMP:20260420T030125Z
DTSTART:20260503T140000Z
DTEND:20260503T160000Z
SUMMARY:Common Field: UNFOLDS - Finissage
LOCATION:Camera 30\\, Atelierele Malmaison\\, Calea Plevnei 137C\\, corp B\\, etaj 
 2\\, 060011 Bucharest\\, RO
DESCRIPTION:Common Field: UNFOLDS&nbsp\\;08.03 – 03.05.2026&nbsp\\;&nbsp\\;Artists: Se
 rgiu Chihaia\\, Sorin Dan Cojocaru\\, Mirela Ivanciu\\, Mircea Modreanu\\
 , Răzvan Neagoe\\, Alina Tudor and Silvia TrăistaruCurators: Anne-Marie L
 olea &amp\\; Anamaria Grigor&nbsp\\;Location: Atelier Silvia Trăistaru: R
 oom 30 | Atelierele Malmaison&nbsp\\;Calea Plevnei 137C\\, Building B\\, 
 2nd Floor\\, BucharestThe exhibition “Common Field: UNFOLDS” proposes a s
 hared exploration of memory and materiality — an approach in which the wo
 rk...
URL:https://oneartyminute.com/expositions/common-field-unfolds
STATUS:CONFIRMED
BEGIN:VALARM
TRIGGER:-PT1H
DESCRIPTION:Rappel : événement dans 1 heure
ACTION:DISPLAY
END:VALARM
END:VEVENT
END:VCALENDAR
