BEGIN:VCALENDAR
VERSION:2.0
PRODID:-//OneArtyMinute//Calendar Export//FR
CALSCALE:GREGORIAN
METHOD:PUBLISH
BEGIN:VEVENT
UID:finissage-15695@oneartyminute.com
DTSTAMP:20260420T030121Z
DTSTART:20260502T140000Z
DTEND:20260502T160000Z
SUMMARY:Parcours photographique "Are You Experiencing" Le Havre 2026 - Finissage
LOCATION:Librairie La Galerne\\, 148 Avenue Victor Hugo\\, 76600 Le Havre\\, FR
DESCRIPTION:Misa ATO Photographe Parcours photographique urbain Le Havre 2026&nbsp\\;I
 SSUE21&nbsp\\;&nbsp\\;La vie clandestine des constructions qui cessent d’
 être des constructions a toujours suscité un intérêt d’exploration et un 
 questionnement sur l’oubli. Le fait d’imaginer de nouvelles constructions
  par l’exercice de ma profession accentuait ce sentiment de lâcheté face 
 à ces ouvrages souvent remarquables et débordants de vécu qui transpirent
  au travers de ces matériaux dégradés. Fix...
URL:https://oneartyminute.com/expositions/parcours-photographique-are-you-experiencing-le-havre-2026
STATUS:CONFIRMED
BEGIN:VALARM
TRIGGER:-PT1H
DESCRIPTION:Rappel : événement dans 1 heure
ACTION:DISPLAY
END:VALARM
END:VEVENT
END:VCALENDAR
