BEGIN:VCALENDAR
VERSION:2.0
PRODID:-//OneArtyMinute//Calendar Export//FR
CALSCALE:GREGORIAN
METHOD:PUBLISH
BEGIN:VEVENT
UID:finissage-15699@oneartyminute.com
DTSTAMP:20260422T195622Z
DTSTART:20260614T140000Z
DTEND:20260614T160000Z
SUMMARY:SAUVAGES  - Finissage
LOCATION:FOCALE galerie – librairie\\, Place du Château 4 \\, 1260 Nyon\\, CH
DESCRIPTION:SAUVAGESMonitorée\\, maîtrisée\\, épiée\\, comptabilisée\\, chassée ou pro
 tégée\\, la faune est sous contrainte humaine. Pendant une année\\, Laure
 nce Kubski a documenté les interactions qui rythment la cohabitation des 
 humains et des animaux sauvages dans l’espace géographique et culturel bi
 en défini du canton de Fribourg.Au travers des saisons\\, la photographe 
 a suivi la capture de chauves-souris aux abords de grottes pour les recen
 ser\\, le baguage des oiseaux pendant leur migration\\, le su...
URL:https://oneartyminute.com/expositions/sauvages
STATUS:CONFIRMED
BEGIN:VALARM
TRIGGER:-PT1H
DESCRIPTION:Rappel : événement dans 1 heure
ACTION:DISPLAY
END:VALARM
END:VEVENT
END:VCALENDAR
