BEGIN:VCALENDAR
VERSION:2.0
PRODID:-//OneArtyMinute//Calendar Export//FR
CALSCALE:GREGORIAN
METHOD:PUBLISH
BEGIN:VEVENT
UID:finissage-15706@oneartyminute.com
DTSTAMP:20260420T030121Z
DTSTART:20260523T070000Z
DTEND:20260523T090000Z
SUMMARY:Ce que la langue ne traduit pas - Finissage
LOCATION:Fédération ASIEMUT \\,  10-12 rue du Buisson Saint-Louis\\, 75010 Paris\\,
  FR
DESCRIPTION:L’exposition Ce que la langue ne traduit pas de Zhifang Tang explore les n
 otions de mémoire\\, de déplacement et d’« entre-deux » — un espace situé
  entre ici et ailleurs\\, passé et présent. Présentée par l’association M
 INERVA à la Fédération ASIEMUT\\, dans le 10ᵉ arrondissement de Paris\\, 
 elle s’inscrit dans un lieu dédié à l’apprentissage linguistique et à l’a
 ccompagnement des populations migrantes\\, où se croisent quotidiennement
  langues\\, trajectoires et expérien...
URL:https://oneartyminute.com/expositions/ce-que-la-langue-ne-traduit-pas
STATUS:CONFIRMED
BEGIN:VALARM
TRIGGER:-PT1H
DESCRIPTION:Rappel : événement dans 1 heure
ACTION:DISPLAY
END:VALARM
END:VEVENT
END:VCALENDAR
