BEGIN:VCALENDAR
VERSION:2.0
PRODID:-//OneArtyMinute//Calendar Export//FR
CALSCALE:GREGORIAN
METHOD:PUBLISH
BEGIN:VEVENT
UID:finissage-15723@oneartyminute.com
DTSTAMP:20260422T195628Z
DTSTART:20260530T150000Z
DTEND:20260530T170000Z
SUMMARY:The Unreality of Reality. The Reality of the Unreal - Finissage
LOCATION:Bendana | Pinel Art Contemporain\\, 4\\, rue du perche\\, 75003 Paris\\, F
 R
DESCRIPTION:Bendana| Pinel Art Contemporain a le plaisir de présenter «The Unreality o
 f Reality. The Reality of the Unreal»\\, la deuxième exposition personnel
 le de Niccolò Montesi à la galerie.&nbsp\\;La photographie de Niccolò Mon
 tesi s’inscrit dans une tradition de recherche qui envisage l’image comme
  un moyen d’interroger et de transformer le regard. Dans sa pratique\\, e
 lle devient un processus d’abstraction et de concentration visuelle qui q
 uestionne la relation entre réalité\\, perception...
URL:https://oneartyminute.com/expositions/unreality-reality-reality-unreal
STATUS:CONFIRMED
BEGIN:VALARM
TRIGGER:-PT1H
DESCRIPTION:Rappel : événement dans 1 heure
ACTION:DISPLAY
END:VALARM
END:VEVENT
END:VCALENDAR
