BEGIN:VCALENDAR
VERSION:2.0
PRODID:-//OneArtyMinute//Calendar Export//FR
CALSCALE:GREGORIAN
METHOD:PUBLISH
BEGIN:VEVENT
UID:finissage-15724@oneartyminute.com
DTSTAMP:20260422T194951Z
DTSTART:20261101T170000Z
DTEND:20261101T190000Z
SUMMARY:Biennale Panorama - Finissage
LOCATION:Centre d’art contemporain\\, l’ar[T]senal\\, 13\\, place Mésirard\\, 28100
  DREUX\\, FR
DESCRIPTION:PANORAMA est LE nouvel événement culturel du territoire créé en synergie e
 t qui allie art\\, métiers d’art et patrimoine… Pour sa première édition\
 \, rendez-vous du 6 mai au 1er novembre 2026\\, à Dreux et découvrez des 
 expos\\, ateliers et sorties inédits dans onze lieux riches en histoire !
 Au&nbsp\\;Musée d'Art et d'Histoire&nbsp\\;de Dreux\\, une sélection d’œu
 vres ou de projets arts et métiers d’art issus des collections du Mobilie
 r National\\, de la manufacture de Sèvres et des At...
URL:https://oneartyminute.com/expositions/biennale-panorama
STATUS:CONFIRMED
BEGIN:VALARM
TRIGGER:-PT1H
DESCRIPTION:Rappel : événement dans 1 heure
ACTION:DISPLAY
END:VALARM
END:VEVENT
END:VCALENDAR
