BEGIN:VCALENDAR
VERSION:2.0
PRODID:-//OneArtyMinute//Calendar Export//FR
CALSCALE:GREGORIAN
METHOD:PUBLISH
BEGIN:VEVENT
UID:finissage-15726@oneartyminute.com
DTSTAMP:20260422T211605Z
DTSTART:20260620T170000Z
DTEND:20260620T190000Z
SUMMARY:Pablo Griss - Dystopian Cartography - Finissage
LOCATION:Luisa Catucci Contemporary\\, Brunnenstraße 170\\, 10119 Berlin\\, DE
DESCRIPTION:Pablo GrissDystopic CartographyLuisa Catucci Contemporary&nbsp\\;Gallery W
 eekend Berlin – Opening April 30&nbsp\\;There are maps that tell you wher
 e you are.And then there are maps that politely refuse.Pablo Griss draws 
 the second kind.Dystopic Cartography is the latest body of work by the Ve
 nezuelan artist Pablo Griss\\, developed over the past five years through
  a process that was anything but immediate. It emerges after a long perio
 d of reflection\\, recalibration\\, and—perhaps—necessary diso...
URL:https://oneartyminute.com/expositions/pablo-griss-dystopian-cartography
STATUS:CONFIRMED
BEGIN:VALARM
TRIGGER:-PT1H
DESCRIPTION:Rappel : événement dans 1 heure
ACTION:DISPLAY
END:VALARM
END:VEVENT
END:VCALENDAR
